BEGIN:VCALENDAR
VERSION:2.0
PRODID:-//Katonah Study Group for Integrative Medicine - ECPv6.15.16.1//NONSGML v1.0//EN
CALSCALE:GREGORIAN
METHOD:PUBLISH
X-WR-CALNAME:Katonah Study Group for Integrative Medicine
X-ORIGINAL-URL:https://katonahstudygroup.org
X-WR-CALDESC:Events for Katonah Study Group for Integrative Medicine
REFRESH-INTERVAL;VALUE=DURATION:PT1H
X-Robots-Tag:noindex
X-PUBLISHED-TTL:PT1H
BEGIN:VTIMEZONE
TZID:America/New_York
BEGIN:DAYLIGHT
TZOFFSETFROM:-0500
TZOFFSETTO:-0400
TZNAME:EDT
DTSTART:20240310T070000
END:DAYLIGHT
BEGIN:STANDARD
TZOFFSETFROM:-0400
TZOFFSETTO:-0500
TZNAME:EST
DTSTART:20241103T060000
END:STANDARD
BEGIN:DAYLIGHT
TZOFFSETFROM:-0500
TZOFFSETTO:-0400
TZNAME:EDT
DTSTART:20250309T070000
END:DAYLIGHT
BEGIN:STANDARD
TZOFFSETFROM:-0400
TZOFFSETTO:-0500
TZNAME:EST
DTSTART:20251102T060000
END:STANDARD
BEGIN:DAYLIGHT
TZOFFSETFROM:-0500
TZOFFSETTO:-0400
TZNAME:EDT
DTSTART:20260308T070000
END:DAYLIGHT
BEGIN:STANDARD
TZOFFSETFROM:-0400
TZOFFSETTO:-0500
TZNAME:EST
DTSTART:20261101T060000
END:STANDARD
END:VTIMEZONE
BEGIN:VEVENT
DTSTART;TZID=America/New_York:20251008T183000
DTEND;TZID=America/New_York:20251008T200000
DTSTAMP:20260423T162355
CREATED:20250930T150636Z
LAST-MODIFIED:20251001T144324Z
UID:3264-1759948200-1759953600@katonahstudygroup.org
SUMMARY:Escaping the Prison You Didn’t Know You Were In with Jeffrey B. Rubin\, PhD\, Psychoanalyst
DESCRIPTION:Please join us for an exploration of ways we are imprisoned by our attempts to heal\, and how Meditative Psychoanalysis may hold the keys to our escape. \nIn this presentation we’ll explore four themes: \nTheme 1: Challenges of childhood\, emotional self-splinting and “curing the patient of their practice of self-cure.” \nTheme 2: Two human super-powers: we all communicate more than we know about where we are imprisoned and how we might be freed\, AND we can train and drastically deepen our  capacity to hear more than we ever expected. \nTheme 3: Searching for the Wisdom Beneath the Apparent Madness – there is an emotional logic underlying even human behavior that seems crazy or self-destructive – delusions\, for example\, are revelatory not delusive \nTheme 4: Meditative Psychoanalysis and the Psychoanalyst as Jazz Improviser – the union of presence\, meaning\, and liberated intimacy \n\nWE HOPE YOU’LL JOIN US!  \nPlease this registration button to reserve your seat on Zoom.\nNote: A recording will be available after the event\, but you must register to receive the link. \nRegister for this Event \n\nTHIS IS A BY CONTRIBUTION EVENT \nClick on the contribution button and pay what you are able.\nThe suggested amount is $10 (US)\, but if you are not able to contribute at this time\, please simply register.\n \nPlease Make a Contribution to Help Us Cover Expenses — Thank You! \n  \n\nAbout Jeffrey B. Rubin\, PhD\, Psychoanalyst\, Writer\, and Teacher \nJeffrey B. Rubin Ph.D practices psychoanalysis and psychoanalytically-oriented psychotherapy and teaches meditation in New York City and North Salem\, New York. He is considered one of the leading integrators of the Western psychotherapeutic and eastern meditative traditions. A Sensei in the Nyogen Senzaki and Soen Nakagawa Rinzai Zen lineage and the creator of meditative psychotherapy\, a practice that he developed through insights gained from decades of study\, teaching and trying to helping people flourish. \nDr. Jeffrey Rubin has taught at various universities\, psychoanalytic institutes and Buddhist and yoga centers. He lectures around the country and has given workshops at the United Nations\, Esalen Institute\, The Open Center\, and The 92nd Street Y. His pioneering approach to psychotherapy and Buddhism has been featured in The New York Times Magazine. \nDr. Rubin is the author of these critically acclaimed books: \n\n The Art of Flourishing: A Guide to Mindfulness\, Self-Care\, and Love in a Chaotic World\nPsychotherapy and Buddhism\nThe Good Life: Psychoanalytic Reflections on Love\, Ethics\, Creativity\, and Spirituality\n A Psychoanalysis for Our Time: Exploring the Blindness of the Seeing I\nPsychotherapy Case Studies: Escaping the Prison You Didn’t Know You Were In .\n[Or download the ebook on Amazon]\nMeditative Psychotherapy and Psychoanalysis: Pathways to Healing and Transformation.\n[Or download the ebook from Amazon]\nThe Art of Flourishing: A New East-West Approach to Staying Sane and Finding Love in an Insane World \n\n  \nContact info \nJeffrey B\, Rubin\n(914) 953-1123\nwww.drjeffreyrubin.com \n 
URL:https://katonahstudygroup.org/event/jeffrey-b-rubin-october-2025/
LOCATION:ZOOM  –  You will be provided details upon registration
ORGANIZER;CN="Katonah Study Group":MAILTO:katonahstudygroup@gmail.com
END:VEVENT
END:VCALENDAR