BEGIN:VCALENDAR
VERSION:2.0
PRODID:-//Katonah Study Group for Integrative Medicine - ECPv6.15.16.1//NONSGML v1.0//EN
CALSCALE:GREGORIAN
METHOD:PUBLISH
X-ORIGINAL-URL:https://katonahstudygroup.org
X-WR-CALDESC:Events for Katonah Study Group for Integrative Medicine
REFRESH-INTERVAL;VALUE=DURATION:PT1H
X-Robots-Tag:noindex
X-PUBLISHED-TTL:PT1H
BEGIN:VTIMEZONE
TZID:America/New_York
BEGIN:DAYLIGHT
TZOFFSETFROM:-0500
TZOFFSETTO:-0400
TZNAME:EDT
DTSTART:20240310T070000
END:DAYLIGHT
BEGIN:STANDARD
TZOFFSETFROM:-0400
TZOFFSETTO:-0500
TZNAME:EST
DTSTART:20241103T060000
END:STANDARD
BEGIN:DAYLIGHT
TZOFFSETFROM:-0500
TZOFFSETTO:-0400
TZNAME:EDT
DTSTART:20250309T070000
END:DAYLIGHT
BEGIN:STANDARD
TZOFFSETFROM:-0400
TZOFFSETTO:-0500
TZNAME:EST
DTSTART:20251102T060000
END:STANDARD
BEGIN:DAYLIGHT
TZOFFSETFROM:-0500
TZOFFSETTO:-0400
TZNAME:EDT
DTSTART:20260308T070000
END:DAYLIGHT
BEGIN:STANDARD
TZOFFSETFROM:-0400
TZOFFSETTO:-0500
TZNAME:EST
DTSTART:20261101T060000
END:STANDARD
END:VTIMEZONE
BEGIN:VEVENT
DTSTART;TZID=America/New_York:20250115T183000
DTEND;TZID=America/New_York:20250115T203000
DTSTAMP:20260424T072252
CREATED:20241231T004202Z
LAST-MODIFIED:20250102T211451Z
UID:3082-1736965800-1736973000@katonahstudygroup.org
SUMMARY:The Gut-Brain Connection – What You Need to Know\, with Leo Galland\, M.D.
DESCRIPTION:  \nPhysicians are expanding their understanding of the gut-brain connection — a bi-directional relationship between the intestinal microbiome and the brain that can influence memory\, mood\, and cognition. \nThis dynamic relationship may be clinically relevant to a range of disorders\, including alcoholism\, chronic fatigue syndrome\, fibromyalgia\, and restless legs syndrome. In addition\, the role of the gut microbiome is being studied as an implication in multiple sclerosis and the neurologic manifestations of celiac disease. \nIn his internal medicine practice\, Dr. Leo Galland has identified five mechanisms whereby the gut impacts the brain. It is through these varied mechanisms\, gut microbes shape the architecture of sleep and stress reactivity of the hypothalamic-pituitary-adrenal axis. \nIn addition to describing these five mechanisms\, Dr. Galland will share microbiome treatments that can make a real difference\, including changes in diet\, probiotics\, and prebiotics. \nThis session is not to be missed. We hope you join us for an illuminating presentation by a pioneer in his field. \nRead Dr. Galland’s article that appeared in Journal of Medicinal Food\, The Gut Microbiome and the Brain. \n  \n\nWE HOPE YOU’LL JOIN US!  \nPlease this registration button to reserve your seat on Zoom.\nNote: A recording will be available after the event\, but you must register to receive the link. \nRegister for this Event \n\nTHIS IS A BY CONTRIBUTION EVENT \nClick on the contribution button and pay what you are able.\nThe suggested amount is $10 (US)\, but if you are not able to contribute at this time\, please simply register.\n \nPlease Make a Contribution to Help Us Cover Expenses — Thank You! \n  \nAbout Leo Galland\, M.D. \nLeo Galland\, M.D. is a New York-based internist and author who specializes in undiagnosed or difficult-to-treat illnesses. He received his education and medical training at Harvard and NYU. Regularly chosen by New York magazine as one of the best doctors in New York\, as well as listed in America’s Top Doctors\, he has appeared on Good Morning America and on CNN\, Fox News\, and PBS. Galland was awarded the Linus Pauling Award by the Institute for Functional Medicine in 2000. His research includes nutrition\, chronic allergies\, leaky-gut syndrome\, and Lyme disease. He is the author of several medical books including Superimmunity for Kids (1989)\,  Power Healing (1998)\, The Fat Resistance Diet (2006) and The Allergy Solution. \nIn March\, 2024\, the Katonah Study group was honored to have Dr. Galland join us for A Conversation about Life\, Death and Heaven\, (related to his book Already Here – A Doctor Discovers the Truth about Heaven) \nWe are very pleased to welcome Dr. Galland return to share his wisdom with us once again.
URL:https://katonahstudygroup.org/event/the-gut-brain-connection/
LOCATION:ZOOM  –  You will be provided details upon registration
ORGANIZER;CN="Katonah Study Group":MAILTO:katonahstudygroup@gmail.com
END:VEVENT
END:VCALENDAR