BEGIN:VCALENDAR
VERSION:2.0
PRODID:-//Katonah Study Group for Integrative Medicine - ECPv6.15.16.1//NONSGML v1.0//EN
CALSCALE:GREGORIAN
METHOD:PUBLISH
X-WR-CALNAME:Katonah Study Group for Integrative Medicine
X-ORIGINAL-URL:https://katonahstudygroup.org
X-WR-CALDESC:Events for Katonah Study Group for Integrative Medicine
REFRESH-INTERVAL;VALUE=DURATION:PT1H
X-Robots-Tag:noindex
X-PUBLISHED-TTL:PT1H
BEGIN:VTIMEZONE
TZID:America/New_York
BEGIN:DAYLIGHT
TZOFFSETFROM:-0500
TZOFFSETTO:-0400
TZNAME:EDT
DTSTART:20230312T070000
END:DAYLIGHT
BEGIN:STANDARD
TZOFFSETFROM:-0400
TZOFFSETTO:-0500
TZNAME:EST
DTSTART:20231105T060000
END:STANDARD
BEGIN:DAYLIGHT
TZOFFSETFROM:-0500
TZOFFSETTO:-0400
TZNAME:EDT
DTSTART:20240310T070000
END:DAYLIGHT
BEGIN:STANDARD
TZOFFSETFROM:-0400
TZOFFSETTO:-0500
TZNAME:EST
DTSTART:20241103T060000
END:STANDARD
BEGIN:DAYLIGHT
TZOFFSETFROM:-0500
TZOFFSETTO:-0400
TZNAME:EDT
DTSTART:20250309T070000
END:DAYLIGHT
BEGIN:STANDARD
TZOFFSETFROM:-0400
TZOFFSETTO:-0500
TZNAME:EST
DTSTART:20251102T060000
END:STANDARD
END:VTIMEZONE
BEGIN:VEVENT
DTSTART;TZID=America/New_York:20240918T183000
DTEND;TZID=America/New_York:20240918T200000
DTSTAMP:20260424T140103
CREATED:20240823T210528Z
LAST-MODIFIED:20240823T210528Z
UID:3000-1726684200-1726689600@katonahstudygroup.org
SUMMARY:Ketamine Care for Depression with Dr. Nico Grundmann
DESCRIPTION:  \nIn the last decade\, ketamine has emerged as a highly efficacious treatment for depression and mood disorders. Ember Health co-founder Dr. Nico Grundmann will present a general overview of ketamine for depression\, discuss various patient archetypes who may benefit from treatment\, and consider how a collaborative care model contributes to positive outcomes of care. \n\nThis is a by-contribution event.\nClick on the contribution button and pay what you are able.\nThe suggested amount is $10 (US).\nIf you are not able to contribute at this time\, please simply register below.\n \nPlease Make a Contribution to Help Us Cover Expenses — Thank You! \nUse this registration button to reserve your seat on Zoom. \nRegister for this Event \n\nDr. Nicolas Grundmann is an Emergency Medicine trained Physician\, devoted to improving how healthcare systems operate for those who need it the most. \nWorking in emergency rooms from suburban California\, to inner-city New York\, to rural West Virginia\, Nico grew frustrated by how frequently he was treating acute symptoms of mental health without helping his patients with more sustained\, long term solutions. Many years of working with ketamine as a safe medicine for sedation prompted continuous research of the drug’s efficacy for other conditions\, including depression. Nico founded Ember Health as a way to help individuals take control of their lives\, and contribute to the shaping of a field in line with his values. \nDr. Grundmann pursued his residency training at Kings County Hospital / SUNY Downstate in Brooklyn\, NY\, and received his Medical Degrees and Masters in Business Administration from Stanford University. He lives in Brooklyn with his wife and family. \nNico Grundmann\, MD MBA\nFounder\, Ember Health\nnico@emberhealth.co\nhttps://emberhealth.co/ \n\nThis is a by-contribution event.\nClick on the contribution button and pay what you are able.\nThe suggested amount is $10 (US).\nIf you are not able to contribute at this time\, please simply register below.\n \nPlease Make a Contribution to Help Us Cover Expenses — Thank You! \nUse this registration button to reserve your seat on Zoom. \nRegister for this Event
URL:https://katonahstudygroup.org/event/ketamine-care-2024/
LOCATION:ZOOM  –  You will be provided details upon registration
ORGANIZER;CN="Katonah Study Group":MAILTO:katonahstudygroup@gmail.com
END:VEVENT
END:VCALENDAR