BEGIN:VCALENDAR
VERSION:2.0
PRODID:-//Katonah Study Group for Integrative Medicine - ECPv6.15.16.1//NONSGML v1.0//EN
CALSCALE:GREGORIAN
METHOD:PUBLISH
X-ORIGINAL-URL:https://katonahstudygroup.org
X-WR-CALDESC:Events for Katonah Study Group for Integrative Medicine
REFRESH-INTERVAL;VALUE=DURATION:PT1H
X-Robots-Tag:noindex
X-PUBLISHED-TTL:PT1H
BEGIN:VTIMEZONE
TZID:America/New_York
BEGIN:DAYLIGHT
TZOFFSETFROM:-0500
TZOFFSETTO:-0400
TZNAME:EDT
DTSTART:20230312T070000
END:DAYLIGHT
BEGIN:STANDARD
TZOFFSETFROM:-0400
TZOFFSETTO:-0500
TZNAME:EST
DTSTART:20231105T060000
END:STANDARD
BEGIN:DAYLIGHT
TZOFFSETFROM:-0500
TZOFFSETTO:-0400
TZNAME:EDT
DTSTART:20240310T070000
END:DAYLIGHT
BEGIN:STANDARD
TZOFFSETFROM:-0400
TZOFFSETTO:-0500
TZNAME:EST
DTSTART:20241103T060000
END:STANDARD
BEGIN:DAYLIGHT
TZOFFSETFROM:-0500
TZOFFSETTO:-0400
TZNAME:EDT
DTSTART:20250309T070000
END:DAYLIGHT
BEGIN:STANDARD
TZOFFSETFROM:-0400
TZOFFSETTO:-0500
TZNAME:EST
DTSTART:20251102T060000
END:STANDARD
END:VTIMEZONE
BEGIN:VEVENT
DTSTART;TZID=America/New_York:20240619T183000
DTEND;TZID=America/New_York:20240619T200000
DTSTAMP:20260424T185133
CREATED:20240529T220755Z
LAST-MODIFIED:20240529T221055Z
UID:2975-1718821800-1718827200@katonahstudygroup.org
SUMMARY:Healing Into Wholeness: Perspectives of an Integrative Psychiatrist with David Aftergood\, MD
DESCRIPTION:As human beings living in a complex and demanding world\, we all struggle…. patients and healers alike. Some of our symptoms are physical\, some emotional\, relational\, or spiritual in nature. We wrestle with maladaptive belief systems and find health enhancing lifestyle changes difficult to achieve and sustain. It is easy to lose our sense of joy and vitality. \nHow do we heal?  What is needed for healing? How do we as clinicians or patients\, restore wholeness\, balance and meaning? \nIs it about getting biological support with medication?  Is it through a healing relationship\, where we are seen\, acknowledged\, and supported?  Is it about gaining knowledge\, insight\, awareness and coping skills to deal with emotions\, beliefs and behaviors? Is it embarking on a spiritual path? \nHow are these decisions collaboratively made between practitioner and patient/client? Are there models of care large enough to hold these multiple perspectives simultaneously? \nIndeed\, healing body and soul often requires a holistic approach. In his presentation to the Katonah Study Group\, David Aftergood\, MD\, will discuss ways of integrating treatment gleaned from a forty-year career in psychiatry. \nThis online seminar will be both experiential and informative. Topics will include: \n\nThe differences between three models of care: medical\, humanistic\, and holistic/integrative.\nHolding multiple roles in an integrative treatment: physician\, therapist\, and healer.\nTransformational moments in Dr. Aftergood’s personal wellness journey that led to teachers and philosophies to guide his healing work with others.\nOpportunity for reflection\, either as provider or receiver of care\, on what is in need of healing.\n\nDr. Aftergood will also encourage a deeper discussion about healing based on readings from his new book: Healing Into Wholeness: The Personal and Professional Journey of an Integrative Psychiatrist. \n\nWE HOPE YOU’LL JOIN US!  \nPlease this registration button to reserve your seat on Zoom.\nNote: A recording will be available after the event\, but you must register to receive the link. \nRegister for this Event \n\nTHIS IS A BY CONTRIBUTION EVENT \nClick on the contribution button and pay what you are able.\nThe suggested amount is $10 (US)\, but if you are not able to contribute at this time\, please simply register.\n \nPlease Make a Contribution to Help Us Cover Expenses — Thank You! \n\nDavid Aftergood\, MD\, received his medical training and completed his psychiatry residency at Albert Einstein College of Medicine (1976-1984). He later served on the Einstein faculty as an associate clinical professor of psychiatry (1995-2011). \nDr. Aftergood has been in private practice of psychiatry since 1984. Over the course of his career\, in addition to providing psychodynamic psychotherapy and psychopharmacology\, he pursued post-graduate training in hypnotherapy\, Buddhist psychology\, mindfulness meditation\, EMDR\, mind-body medicine\, attended healing retreats and immersed himself in the study of both Eastern and Western spiritual traditions. These trainings\, practices and studies led to the development of his practice of integrative psychiatry. \nContact: draftergood@gmail.com\,\nWeb site: integralpsychiatry.net\nAuthor of: Healing Into Wholeness: The Personal and Professional Journey of an Integrative Psychiatrist  \n 
URL:https://katonahstudygroup.org/event/healing-into-wholeness/
LOCATION:ZOOM  –  You will be provided details upon registration
ORGANIZER;CN="Katonah Study Group":MAILTO:katonahstudygroup@gmail.com
END:VEVENT
END:VCALENDAR