BEGIN:VCALENDAR
VERSION:2.0
PRODID:-//Katonah Study Group for Integrative Medicine - ECPv6.15.16.1//NONSGML v1.0//EN
CALSCALE:GREGORIAN
METHOD:PUBLISH
X-WR-CALNAME:Katonah Study Group for Integrative Medicine
X-ORIGINAL-URL:https://katonahstudygroup.org
X-WR-CALDESC:Events for Katonah Study Group for Integrative Medicine
REFRESH-INTERVAL;VALUE=DURATION:PT1H
X-Robots-Tag:noindex
X-PUBLISHED-TTL:PT1H
BEGIN:VTIMEZONE
TZID:America/New_York
BEGIN:DAYLIGHT
TZOFFSETFROM:-0500
TZOFFSETTO:-0400
TZNAME:EDT
DTSTART:20230312T070000
END:DAYLIGHT
BEGIN:STANDARD
TZOFFSETFROM:-0400
TZOFFSETTO:-0500
TZNAME:EST
DTSTART:20231105T060000
END:STANDARD
BEGIN:DAYLIGHT
TZOFFSETFROM:-0500
TZOFFSETTO:-0400
TZNAME:EDT
DTSTART:20240310T070000
END:DAYLIGHT
BEGIN:STANDARD
TZOFFSETFROM:-0400
TZOFFSETTO:-0500
TZNAME:EST
DTSTART:20241103T060000
END:STANDARD
BEGIN:DAYLIGHT
TZOFFSETFROM:-0500
TZOFFSETTO:-0400
TZNAME:EDT
DTSTART:20250309T070000
END:DAYLIGHT
BEGIN:STANDARD
TZOFFSETFROM:-0400
TZOFFSETTO:-0500
TZNAME:EST
DTSTART:20251102T060000
END:STANDARD
END:VTIMEZONE
BEGIN:VEVENT
DTSTART;TZID=America/New_York:20240417T183000
DTEND;TZID=America/New_York:20240417T200000
DTSTAMP:20260424T220005
CREATED:20240324T232003Z
LAST-MODIFIED:20240327T193955Z
UID:2920-1713378600-1713384000@katonahstudygroup.org
SUMMARY:A Conversation about Life\, Death and Heaven\, with Leo Galland\, M.D.
DESCRIPTION:Leo Galland\, M.D.\, is a renowned physician and integrative healer. He is a graduate of Harvard University and New York University School of Medicine\, and board-certified in Internal Medicine\, and listed in Leading Physicians of the World and America’s Top Doctors. \nIn addition\, he is the author of several groundbreaking books\, including Already Here – A Doctor Discovers the Truth about Heaven\, documenting his encounters with his son\, Christopher\, after his passing. \nDuring his presentation to KSG\, Dr. Galland will share his late son Christopher’s revelations that guided his own journey of discovery and opened the door for a deeper understanding of life and death\, spiritual growth\, and the concept of timelessness. \nDr. Galland’s presentation promises to be an enlightening conversation with a physician who has come face to face with mortality throughout his career. And now\, during this rare interview\, Dr. Galland will share his profound insights about the afterlife with the Katonah Study Group. \nThis is an exceptional opportunity for Dr. Galland to express what many yearn to know and understand. There will be time for questions and answers. \nAlthough it is not required\, it would be helpful to read parts of his book Already Here – A Doctor Discovers the Truth about Heaven\, before the event. Links to excerpts of the book may be found online at Dr. Galland’s website and Already Here on Google Books \n\nREGARDING THE FREE BOOKS \nKatonah Study Group has shipped 10 free copies of  Already Here – A Doctor Discovers the Truth about Heaven\, to the first 10 people who registered. In addition we have sent email notices to these winners: Tatiana M\,  Reanne S\, Robert M\, Barrie J\, Gannie T\, Bobbe B\, Pam E\,  T DiMauro\, Susan S\, Penny L.\n \nStill want to read an excerpt of the book?\nGo to Dr. Galland’s website or  Already Here on Google Books \n\nWE WILL BE HONORED TO HAVE YOU JOIN US!  \nPlease this registration button to reserve your seat on Zoom. \nRegister for this Event \n\nTHIS IS A BY CONTRIBUTION EVENT \nClick on the contribution button and pay what you are able.\nThe suggested amount is $10 (US).\nIf you are not able to contribute at this time\, please simply register below.\n \nPlease Make a Contribution to Help Us Cover Expenses — Thank You!
URL:https://katonahstudygroup.org/event/life-death-and-heaven/
LOCATION:ZOOM  –  You will be provided details upon registration
ORGANIZER;CN="Katonah Study Group":MAILTO:katonahstudygroup@gmail.com
END:VEVENT
END:VCALENDAR