BEGIN:VCALENDAR
VERSION:2.0
PRODID:-//Katonah Study Group for Integrative Medicine - ECPv6.15.16.1//NONSGML v1.0//EN
CALSCALE:GREGORIAN
METHOD:PUBLISH
X-ORIGINAL-URL:https://katonahstudygroup.org
X-WR-CALDESC:Events for Katonah Study Group for Integrative Medicine
REFRESH-INTERVAL;VALUE=DURATION:PT1H
X-Robots-Tag:noindex
X-PUBLISHED-TTL:PT1H
BEGIN:VTIMEZONE
TZID:America/New_York
BEGIN:DAYLIGHT
TZOFFSETFROM:-0500
TZOFFSETTO:-0400
TZNAME:EDT
DTSTART:20220313T070000
END:DAYLIGHT
BEGIN:STANDARD
TZOFFSETFROM:-0400
TZOFFSETTO:-0500
TZNAME:EST
DTSTART:20221106T060000
END:STANDARD
BEGIN:DAYLIGHT
TZOFFSETFROM:-0500
TZOFFSETTO:-0400
TZNAME:EDT
DTSTART:20230312T070000
END:DAYLIGHT
BEGIN:STANDARD
TZOFFSETFROM:-0400
TZOFFSETTO:-0500
TZNAME:EST
DTSTART:20231105T060000
END:STANDARD
BEGIN:DAYLIGHT
TZOFFSETFROM:-0500
TZOFFSETTO:-0400
TZNAME:EDT
DTSTART:20240310T070000
END:DAYLIGHT
BEGIN:STANDARD
TZOFFSETFROM:-0400
TZOFFSETTO:-0500
TZNAME:EST
DTSTART:20241103T060000
END:STANDARD
END:VTIMEZONE
BEGIN:VEVENT
DTSTART;TZID=America/New_York:20231018T183000
DTEND;TZID=America/New_York:20231018T200000
DTSTAMP:20260425T084338
CREATED:20230820T170405Z
LAST-MODIFIED:20231012T205240Z
UID:2626-1697653800-1697659200@katonahstudygroup.org
SUMMARY:Understanding the Potential of Artificial Intelligence\, with Avi Olitzky\, Consultant\, Coach & Speaker
DESCRIPTION:Artificial Intelligence (AI) systems are becoming ubiquitous – touching on all aspects of our lives. As is the case with all new technologies\, the prevalence of AI may require a paradigm shift for many\, as did the printing press… the car… the computer… the internet… and on and on. \nWhile we may have legitimate concerns\, there are also opportunities to consider. Let’s dive in to take a closer look at the power of Artificial Intelligence\, from introspection tools that can help us build authentic connections — to reshaping healthcare. This session will give a glimpse into how AI has the potential to enrich our spiritual\, health and work life. \nJoin us for this enlightening journey where tech touches soul to get a better grasp of the AI-driven holistic revolution. \nMost of us have questions – be sure to bring yours! \n\nThis is a by-contribution event. Click on the contribution button and pay what you are able.\nThe suggested amount is $10 (US).\nIf you are not able to contribute at this time\, please simply register below.\n \nPlease Make a Contribution to Help Us Cover Expenses — Thank You! \n  \nUse this registration button to reserve your seat on Zoom. \nRegister for this Event \n\nAvi Olitzky is the president and principal consultant of Olitzky Consulting Group. Over the course of his professional career\, Avi has served as senior rabbi to one of the largest congregations in North America\, successfully launched and grown innovative information technology and content-driven production companies and organizations\, and was a founding board chair and board member for numerous non-profits. He is a master facilitator\, design-thinker and strategic planner\, innovator\, speaker\, and retreat organizer. In addition\, he has served as an advisor and consultant to multiple membership organizations and non-profits\, camps and youth organizations\, synagogues and churches\, for-profit executives\, and general companies. He was appointed to and served on city Human Rights Commissions as well as hospital IRBs for Human Subjects Research. Avi’s expertise in engagement\, organizational planning\, and outreach is regularly called upon\, especially as co-author of New Membership & Financial Alternatives for the American Synagogue ‐ From Traditional Dues to Fair Share to Gifts from the Heart (Jewish Lights). \nLearn more about Avi at  olitzkyconsulting.com and on LinkedIn \n  \n 
URL:https://katonahstudygroup.org/event/artificial-intelligence/
LOCATION:ZOOM  –  You will be provided details upon registration
ORGANIZER;CN="Katonah Study Group":MAILTO:katonahstudygroup@gmail.com
END:VEVENT
END:VCALENDAR