BEGIN:VCALENDAR
VERSION:2.0
PRODID:-//Katonah Study Group for Integrative Medicine - ECPv6.15.16.1//NONSGML v1.0//EN
CALSCALE:GREGORIAN
METHOD:PUBLISH
X-WR-CALNAME:Katonah Study Group for Integrative Medicine
X-ORIGINAL-URL:https://katonahstudygroup.org
X-WR-CALDESC:Events for Katonah Study Group for Integrative Medicine
REFRESH-INTERVAL;VALUE=DURATION:PT1H
X-Robots-Tag:noindex
X-PUBLISHED-TTL:PT1H
BEGIN:VTIMEZONE
TZID:America/New_York
BEGIN:DAYLIGHT
TZOFFSETFROM:-0500
TZOFFSETTO:-0400
TZNAME:EDT
DTSTART:20220313T070000
END:DAYLIGHT
BEGIN:STANDARD
TZOFFSETFROM:-0400
TZOFFSETTO:-0500
TZNAME:EST
DTSTART:20221106T060000
END:STANDARD
BEGIN:DAYLIGHT
TZOFFSETFROM:-0500
TZOFFSETTO:-0400
TZNAME:EDT
DTSTART:20230312T070000
END:DAYLIGHT
BEGIN:STANDARD
TZOFFSETFROM:-0400
TZOFFSETTO:-0500
TZNAME:EST
DTSTART:20231105T060000
END:STANDARD
BEGIN:DAYLIGHT
TZOFFSETFROM:-0500
TZOFFSETTO:-0400
TZNAME:EDT
DTSTART:20240310T070000
END:DAYLIGHT
BEGIN:STANDARD
TZOFFSETFROM:-0400
TZOFFSETTO:-0500
TZNAME:EST
DTSTART:20241103T060000
END:STANDARD
END:VTIMEZONE
BEGIN:VEVENT
DTSTART;TZID=America/New_York:20230419T130000
DTEND;TZID=America/New_York:20230419T140000
DTSTAMP:20260425T185230
CREATED:20230324T194828Z
LAST-MODIFIED:20230324T201534Z
UID:2523-1681909200-1681912800@katonahstudygroup.org
SUMMARY:Better Food = Better Detox with Dr. Penelope McDonnell
DESCRIPTION:Katonah Study Group is pleased to offer our “Better Food = Better Detox”  in collaboration with Sharp Again Naturally. \nPlease note: it will be held at a special time in the afternoon\, from 1pm-2pm Eastern. This presentation will be recorded and the recording will be available for registrants. \n\n \nFood and Detox\nDietary Do’s and Don’ts to help your body become a Detox Powerhouse!\nWhile our bodies are built to detox\, we sometimes need some extra help. Exposure to toxins\, increased stress\, poor sleep\, poor diet\, etc. all can contribute to slowing down our detox mechanism. In this webinar\, Dr McDonnell does a deep dive into diet to discuss both specific foods that positively impact our ability to detox and those that impair the process. \nTHIS EVENT IS FREE\, BUT YOU MUST REGISTER AT\nhttps://sharpagain.org/event/better-food-better-detox/\nThis presentation will be recorded and the recording will be available for registrants.\n\n \nDr. Penelope McDonnell graduated from the University of Pennsylvania and the Columbia School of Business and worked on Wall Street for many years. After taking time off to start a family\, she decided to switch careers to become a naturopathic doctor. She attended the University of Bridgeport School of Naturopathic Medicine in Connecticut\, a leading accredited university that offers a four-year program in science-based natural medicine. Dr. McDonnell focuses on prevention as the primary strategy for maintaining health. Her treatment plans generally include a combination of natural medicines and specific lifestyle changes designed to bring balance to every system of the body. Dr. McDonnell is particularly interested in treating challenging health concerns such as cancer coping and recovery support\, lifestyle nutrition planning\, women’s health such as hormonal imbalance\, fertility\, and menopause\, as well as SIBO (small intestinal bacterial overgrowth). To learn more\, visit Dr. McDonnell’s website. \n  \nTHIS EVENT IS FREE\, BUT YOU MUST REGISTER AT\nhttps://sharpagain.org/event/better-food-better-detox/\nThis presentation will be recorded and the recording will be available for registrants.\n  \n 
URL:https://katonahstudygroup.org/event/better-food-better-detox/
LOCATION:ZOOM  –  You will be provided details upon registration
ORGANIZER;CN="Katonah Study Group":MAILTO:katonahstudygroup@gmail.com
END:VEVENT
END:VCALENDAR