BEGIN:VCALENDAR
VERSION:2.0
PRODID:-//Katonah Study Group for Integrative Medicine - ECPv6.15.16.1//NONSGML v1.0//EN
CALSCALE:GREGORIAN
METHOD:PUBLISH
X-WR-CALNAME:Katonah Study Group for Integrative Medicine
X-ORIGINAL-URL:https://katonahstudygroup.org
X-WR-CALDESC:Events for Katonah Study Group for Integrative Medicine
REFRESH-INTERVAL;VALUE=DURATION:PT1H
X-Robots-Tag:noindex
X-PUBLISHED-TTL:PT1H
BEGIN:VTIMEZONE
TZID:America/New_York
BEGIN:DAYLIGHT
TZOFFSETFROM:-0500
TZOFFSETTO:-0400
TZNAME:EDT
DTSTART:20120311T070000
END:DAYLIGHT
BEGIN:STANDARD
TZOFFSETFROM:-0400
TZOFFSETTO:-0500
TZNAME:EST
DTSTART:20121104T060000
END:STANDARD
BEGIN:DAYLIGHT
TZOFFSETFROM:-0500
TZOFFSETTO:-0400
TZNAME:EDT
DTSTART:20130310T070000
END:DAYLIGHT
BEGIN:STANDARD
TZOFFSETFROM:-0400
TZOFFSETTO:-0500
TZNAME:EST
DTSTART:20131103T060000
END:STANDARD
BEGIN:DAYLIGHT
TZOFFSETFROM:-0500
TZOFFSETTO:-0400
TZNAME:EDT
DTSTART:20140309T070000
END:DAYLIGHT
BEGIN:STANDARD
TZOFFSETFROM:-0400
TZOFFSETTO:-0500
TZNAME:EST
DTSTART:20141102T060000
END:STANDARD
BEGIN:DAYLIGHT
TZOFFSETFROM:-0500
TZOFFSETTO:-0400
TZNAME:EDT
DTSTART:20150308T070000
END:DAYLIGHT
BEGIN:STANDARD
TZOFFSETFROM:-0400
TZOFFSETTO:-0500
TZNAME:EST
DTSTART:20151101T060000
END:STANDARD
END:VTIMEZONE
BEGIN:VEVENT
DTSTART;TZID=America/New_York:20140618T183000
DTEND;TZID=America/New_York:20140618T213000
DTSTAMP:20260425T122044
CREATED:20140602T154802Z
LAST-MODIFIED:20140602T155333Z
UID:271-1403116200-1403127000@katonahstudygroup.org
SUMMARY:FROM PANIC TO PEACE
DESCRIPTION: FROM PANIC TO PEACE\n Finding Balance\, Harmony and Wisdom in Times of Crisis\nHave you ever found yourself in a full blown crisis? \nWednesday June 18th\nNorthern Westchester Hospital Center\nConference rooms C & D  \n6:30-9:30 PM  \nThis is also our End of the Year Party – Join us for a great evening \n \n\n       \n\nYou remember it well: your solar plexus was in knots. You could barely breathe\, your body was tense\, \nyour tongue dry. Change was upon you\, more than you felt like you could handle. The consequences  \nfor not acting appeared to be serious\, and yet you found yourself procrastinating when action was  \nrequired. Your mind was agitated\, or went blank from fear. You wished your discomfort would just go  \naway….\n \nWhat if crisis were the Universe’s way of FINALLY getting your attention – asking you to let go of  \nwhat no longer served\, and make new\, life-giving\, useful choices…? What if the questions ‘Who am I?’  \nand ‘Why am I here?’ took on new meaning and importance…?\n \nWhen a crisis is severe\, it’s as if Life were pulling us up short and shaking us\, dissolving everything  \nwe believed to be true\, telling us to slow down or even to stop – then plunging us into the unknown.  \nIt’s as if Life were stripping away everything that was not Essential\, nudging us – sometimes with  \nthe force of a Tsunami – to empty ourselves of everything that we believed was true. All this\, so that we could receive the promptings of Spirit\, and become instruments of Divine Love\, Power and Intelligence. From the ego’s point of view\, this may feel like dying; from our Soul’s perspective it is more like entering a portal of Infinite Possibility.\n \nThe whole experience of loss and gain – and the suffering that so often goes with it – can act as a catalyst for spiritual growth – spurring us to go deeper and realize that we are already complete\, that we already have what we need to address any situation. There is nothing to add on to make us whole……\n \nOur work is to cleanse ourselves of the toxic memories and beliefs that both protect and limit us\, and release the Imprisoned Splendor within\, the Light and Love that we are. As it flows\, it brings healing to ourselves and all around us. All the rest – the harmonious relationships\, health\, home\, and abundance that we so often seek – arise from this.\n \n \n \nIn this experiential evening\, we will be working with powerful meditative practices that bring balance and harmony. They are designed to ground you\, quiet the mind\, raise your vibration\, and help you to experience the ‘Gap between thoughts’. This is the Zero Point Field\, a state of Pure Awareness\, Unconditional Love\, and Unlimited Potential. It is revealed in Stillness\, beyond thoughts and words\, and brings deep peace\, rest\, and healing to mind\, heart and body. \n \n \nThese Practices give access to new knowledge\, universal energy\, and an expansion of consciousness that arise from this fertile Void. They will help to bring you into the present moment\, align you with Spirit\, and dissolve your attachments to past and future. This is the realm of your Soul – of living from your Spiritual Center\, in the eternal NOW. \n \nAs you experience the Reality of Oneness-consciousness\, it becomes a new set point to return to\, over and over. It will dramatically re-frame your experience\, bring spaciousness\, clarity\, and wisdom to your responses\, and true contentment\, no matter what the changing conditions or circumstances. \n \nCome see for your Self!\n \n"For my entire life\, I have felt a deep yearning to experience God\, Spirit\, The Tao\, The Void – it goes by so many names\, and none can really describe it. I have yearned to find the Truth\, and heal the profound ignorance\, sense of separation\, and suffering that I felt within and around me. Over the years\, I have sustained a single-minded monk-like focus\, study and practice of Spiritual Principles. I am happy to share the fruits of over forty years of inner work\, and walk with you on your journey" — Rory \n \nPinto \n \nLong time KSG member Rory Pinto is a Spiritual Healer\, Teacher\, and Interfaith Minister. For over 40 years he has been deeply involved in the study and practice of spirituality\, meditation\, and healing methods from around the world. His path has included Gurdjieff Work\, Advaita Yoga\, Vipassana\, Qi Gong\, Healing through the Universal Energy Field\, Reiki\, Matrix Energetics\, and Spiritual Healing of The Infinite Way. He is a graduate of the 4-year professional program of the Barbara Brennan School of Healing\, and is an Ordained Interfaith Minister of both the Sanctuary of the Beloved\, and the Order of the Universal Interfaith. \n \nRory has also co-hosted the New Perspectives Radio Show – an in depth look at current and compelling topics from a spiritual perspective. To listen to some favorites go to http://www.newperspectivesradio.com/ or http://www.rocklandworldradio.com/program/new_perspectives/ for the complete archives. To hear an hour-long radio show on the ART OF MEDITATION\, go to this link: http://www.newperspectivesradio.com/2013/04/01/20212-the-way-of-meditation/\n \nTo learn more about Spiritual Recovery Healing Groups\, Private Healing Sessions\, Spiritual Counseling\, Classes\, Retreats\, Wedding Ceremonies\, or Prayer Requests\, contact Rory at: 212-874-4384\n 
URL:https://katonahstudygroup.org/event/271/
LOCATION:Northern Westchester Hospital – conference rooms A & B\, 400 E Main Street\, Mt Kisco\, NY\, 10549\, United States
ORGANIZER;CN="Bonnie Rogers%2C Clinical Herbalist & Wellness Coach":MAILTO:bonnie@katonahstudygroup.org
END:VEVENT
BEGIN:VEVENT
DTSTART;TZID=America/New_York:20140514T183000
DTEND;TZID=America/New_York:20140514T213000
DTSTAMP:20260425T122044
CREATED:20140215T205515Z
LAST-MODIFIED:20140508T145857Z
UID:257-1400092200-1400103000@katonahstudygroup.org
SUMMARY:A Past Life Regression Demonstration with a Volunteer from the Katonah Study Group with Saundra Cindy Blum
DESCRIPTION:A Past Life Regression Demonstration with a Volunteer from the Katonah Study Group with Saundra Cindy Blum \nWednesday May 14th\nNorthern Westchester Hospital Center\nConference rooms C & D \n6:30-9:30 PM \n  \n\n      \n\n\n\nA Past Life Regression Demonstration with Cindy Blum\n\n\nPurchase ticket $18.00 USDPurchase membership $65.00 USD\n\n\n\n      \n\n A PAST LIFE REGRESSION DEMONSTRATION WITH A VOLUNTEER FROM THE KSG \n Cindy will be discussing the value of her work that she demonstrates in her book\, Footsteps Through the Sands of Time-Past Life Dramas\, Present Life Lessons. She will be sharing case studies\, dialoguing about our before life decisions\, choosing our soul families\, lessons we choose\, traumas we have had to go through\, our last thoughts before death and it’s importance\, what happens when we die\, and healing on the mind\, body and soul levels. \n  \nCindy is going to give a demonstration of a past life regression using hypnosis on a member of the KSG who has volunteered to be the regressee. \n  \nPlease come and witness a transformative healing using a modality that is a truly sacred gift. \n  \nSaundra C. Blum\, MS\, CHT\, CRT\, is an author of 2 books\, Footsteps through the Sands of Time – Past Life Dramas\, Present Life Lessons\, and soon to be published The Gift- Synchonicities Through Divine Intervention.  Saundra received her Masters in Special Education and Counseling\, and \nCertification in Ericksonian Hypnotherapy and Brief Psychotherapy. Saundra has been practicing Past Life Therapy for the last 25 years\, with over 4000 clients from international lectures\, workshops\, trainings and private practice.  Saundra was also on the Bd. of Directors of IARRT(International Assoc. for Regression Research and therapies)\, Advisory Board for Holistic Health at Western Connecticut State University and on the Patient Advisory Board for\nNorthern Westchester Hospital. Saundra is the Co-Founder of the Katonah Study Group for Integrative medicine and is the Founder of The Global Community for Integrative Medicine\, which held it’s first conference in Tuscany\, Italy\, October 2010.\n 
URL:https://katonahstudygroup.org/event/saundra-blum-will-be-discussing-her-newly-released-book-footsteps-through-the-sands-of-time-past-life-drama-present-life-lessons/
LOCATION:Northern Westchester Hospital – conference rooms A & B\, 400 E Main Street\, Mt Kisco\, NY\, 10549\, United States
ORGANIZER;CN="Bonnie Rogers%2C Clinical Herbalist & Wellness Coach":MAILTO:bonnie@katonahstudygroup.org
END:VEVENT
BEGIN:VEVENT
DTSTART;TZID=America/New_York:20140423T183000
DTEND;TZID=America/New_York:20140423T213000
DTSTAMP:20260425T122044
CREATED:20140215T203529Z
LAST-MODIFIED:20140413T174508Z
UID:255-1398277800-1398288600@katonahstudygroup.org
SUMMARY:Hans Wilhelm & Penny Cohen   “Discover The Secret Of The Cosmic Mirror”   Take Charge Of Your Life By Letting Go of   Judgments\, Criticism & Control
DESCRIPTION:Hans Wilhelm & Penny Cohen  \n “Discover The Secret Of The Cosmic Mirror”  \nTake Charge Of Your Life By Letting Go of   Judgments\, Criticism & Control \nWednesday April 23rd\nNorthern Westchester Hospital Center\nConference rooms C & D \n6:30-9:30 PM\n  \n\n      \n\n\n\nHans Wilhelm & Penny Cohen   "Discover The Secret Of The Cosmic\n\n\nPurchase ticket $18.00 USDPurchase membership $65.00 USD\n\n\n\n      \n\n * Are the people in your life driving you crazy\n \n*  Do you want the world around you to be more   positive and exciting?\n \n*  If you want to stop victimhood forever – join us?   \n  \nThis workshop is about the Law Of Projection:  What we see in others is something unresolved within ourselves.  When we resolve what’s going on within us we see others treating us differently and the world around us changes.    \n  \n  \n \nHans Wilhelm is the best-selling author and illustrator of over 200 books for all ages with total sales over 42 million copies in 30 languages. With his new video project www.LIFEexplained.com he helps you see life from before birth\, observe why we come into life and witness what rules us.\n \nPenny Cohen\, LCSW is a transformational psychotherapist\, relationship expert\, career and life coach and lecturer\, and author of Personal Kabbalah: 32 Paths To Inner Peace & Life Purpose. With her new project\, Living Life Vibrantly she offers new life changing secrets to overcome life burdens\, create your destiny\, and live life to the fullest with ease and joy. www.pennycohen.com \n \n \n 
URL:https://katonahstudygroup.org/event/hans-wilhelm-penny-cohen-discover-the-secret-of-the-cosmic-mirror-take-charge-of-your-life-by-letting-go-of-judgments-criticism-control/
LOCATION:Northern Westchester Hospital – conference rooms A & B\, 400 E Main Street\, Mt Kisco\, NY\, 10549\, United States
ORGANIZER;CN="Bonnie Rogers%2C Clinical Herbalist & Wellness Coach":MAILTO:bonnie@katonahstudygroup.org
END:VEVENT
BEGIN:VEVENT
DTSTART;TZID=America/New_York:20140319T183000
DTEND;TZID=America/New_York:20140319T213000
DTSTAMP:20260425T122044
CREATED:20140303T225804Z
LAST-MODIFIED:20140304T194042Z
UID:260-1395253800-1395264600@katonahstudygroup.org
SUMMARY:Wake Up to the Power of Dreams with Active Dreaming”  Adelita Chirino\, Dream Teacher
DESCRIPTION: “Wake Up to the Power of Dreams with Active Dreaming”\n \n\nAdelita Chirino\, Dream Teacher\n \nWednesday March 19th\nNorthern Westchester Hospital Center \nConference rooms C & D\n6:30 – 9:30 PM \n\n      \n\n\n\nWake Up to the Power of Dreams with Active Dreaming  Adelita Ch\n\n\nPurchase ticket $18.00 USDPurchase membership $65.00 USD\n\n\n\n      \n\n\n \n \nHave you ever woken from a dream that mystified\, delighted or scared the pajamas off you wondering what it could mean? Active Dreaming\, developed by author and shamanic dream teacher\, Robert Moss\, combines the best of modern dreamwork methods with ancient and indigenous dreaming practices to create a modern synthesis that’s a practical\, experiential approach to understanding and harnessing the power of dreaming. With the help of easy-to-learn Active Dreaming techniques like “Lightning Dreamwork” and “Dream Re-entry” you’ll see how dreams can inspire heightened creativity\, confident living and greater joy in your life.\n\n\nAdelita Chirino\, a former psychotherapist and a veteran educator\, is a certified level III teacher of Active Dreaming. She has over 30 years experience opening the gates of dreaming for people of all ages. She \n\ncurrently teaches “Active Dreaming for Health and Healing” in the Integrative Health and Healing program at The Graduate Institute in CT. Her video company\, Psyche Productions\, produced the award-winning DVD series “The Way of the Dreamer with Robert Moss” and the popular shamanic drumming audio CD\, “Wings for the Journey.”\n\n\nVisit Adelita on her blog:http://litadreaming.blogspot.com/\n 
URL:https://katonahstudygroup.org/event/wake-up-to-the-power-of-dreams-with-adelita-chirino/
LOCATION:Northern Westchester Hospital – conference rooms A & B\, 400 E Main Street\, Mt Kisco\, NY\, 10549\, United States
ORGANIZER;CN="Bonnie Rogers%2C Clinical Herbalist & Wellness Coach":MAILTO:bonnie@katonahstudygroup.org
END:VEVENT
BEGIN:VEVENT
DTSTART;TZID=America/New_York:20140219T183000
DTEND;TZID=America/New_York:20140219T213000
DTSTAMP:20260425T122044
CREATED:20140203T031502Z
LAST-MODIFIED:20140204T173230Z
UID:251-1392834600-1392845400@katonahstudygroup.org
SUMMARY:Rumi: the Mystical Poetry and Whirling Meditation with Deanne Mincer
DESCRIPTION:Deanne Mincer\nRumi: the Mystical Poetry and Whirling Meditation \nWednesday February 19\nNorthern Westchester Hospital Center\nConference rooms C & D \n6:30-9:30 PM\n  \n\n      \n\n\n\nDeanne Mincer for Katonah Study Group\n\n\nPurchase ticket $18.00 USDPurchase membership $65.00 USD\n\n\n\n      \n\n  \n \nThis presentation will introduce you to one of the greatest mystical poets of all time\, the writer known as Rumi who lived inTurkey during the 1700’s.  He was already a renowned cleric in the Sufi Muslim tradition when he came upon a teacher who showed him the true and direct experience of God.  When his teacher disappeared\, Rumi’s poetry sprang forth and\, in his grief\, came a new form of devout meditation called whirling.  Some would know this as whirling like a dervish and it is still practiced around the world. In fact\, as a child you probably whirled! \nRumi’s poetry brings us straight into the heart of Divine Love.  It is so powerful that Rumi’s poetry outsells all other poets in the Western World. \n  \nThe presentation on February 19th will include: \n\nAn introduction to Rumi and his impact on the world and mystical thought\nA video presentation that includes Coleman Barks\, the American poet who has translated much of Rumi’s work\, Huston Smith\, Deepak Chopra\, Robert Bly and many others who speak of the impact Rumi has had on spiritual thought.\nReadings and discussion of some of the seminal works of Rumi and what the beliefs mean for self transformation and learning the language of Love and living in peace in the world.\nAn explanation of whirling as a form of meditation meant to bring us into alignment with Source and with God.\nParticipation in whirling as a meditation form. Deanne was trained in this method in New York City at a program taught by Shahram Shiva.  The whirling is accompanied by authentic sounds to enhance the experience.\nDeanne’s personal experience with Rumi at his shrine in Konya\, Turkey\nSource information for Rumi’s writings will be shared and materials distributed to participants. \n\nWhat you will learn: \n\nWho Rumi is and how he has influenced spiritual and religious thought\nWhat his transformation or enlightening can mean for you\nHow to be more open to non judgment and love in your own life\nHow to use the reading of Rumi’s poetry for self inquiry and growth\nHow to practice whirling on your own and experience its many benefits\n\n  \n \n  \nDeanne Mincer has been a long time student of religious and spiritual studies.  For many years\, she was a practitioner of yoga and in the late 1980’s she was drawn to share her enthusiasm by becoming a yoga teacher.  \nHer certification\, from the Himalayan Institute\, was a comprehensive two year program including the study of anatomy\, diet\, nutrition\, Ayurvedic medical practices\, the methods of teaching hatha yoga\, the science of breath and the study of raja (the royal path of yoga) philosophy. \n She has taught yoga\, meditation\, and spiritual classes for more than twenty years.  In the mid 1990’s she became a follower of Siddha Yoga where she experienced a spiritual awakening called shaktipat and her teachings took on a new and freshly informed understanding.   \nAs Deanne continued her studies\, she learned level one in Reiki and also studied with Henry Grayson\, Ph.D. where she refined her work with muscle testing and the complex of energy healing methods Dr. Grayson has developed for use with his patients.  Dr. Grayson’s work is illuminated in his books\, Mindful Loving and Use Your Body to Heal Your Mind. \nDeanne teaches group and private classes in yoga as well as stress reduction programs and meditation in many forms (sitting\, walking\, whirling\, meditation in action\, and "sleeping" meditation called yoga nidra).  She has developed methods of using yoga in treating those with life threatening diseases as in the programs she designed for Gilda’s Club and Friends in Deed in New York City. \n She was a consulting producer on an alternative health program for CNBC’s Alive and Wellness\, and  she has demonstrated yoga on network television.  Deanne created the audio CD Inner Light Yoga with Deanne Mincer and she has spoken widely and demonstrated meditation in many venues. \nDeanne is an enthusiastic and joyful teacher.  She is known for the keen interest she takes in her students’ physical and spiritual development. She stresses that each student should work at their own pace in a non-competitive and caring environment. You can read some of the comments her students have shared in the Testimonials Section of this site. \n Her teaching is grounded in her own steadfast spiritual awareness – that each of us is a being of eternal light and love and that we can all come to knowing this truth for ourselves. \n She is eager to help guide you on this joyful path of body\, mind\, breath and spirit. \n \n 
URL:https://katonahstudygroup.org/event/rumi-the-mystical-poetry-and-whirling-with-deanne-mincer/
LOCATION:Northern Westchester Hospital – conference rooms A & B\, 400 E Main Street\, Mt Kisco\, NY\, 10549\, United States
ORGANIZER;CN="Bonnie Rogers%2C Clinical Herbalist & Wellness Coach":MAILTO:bonnie@katonahstudygroup.org
END:VEVENT
BEGIN:VEVENT
DTSTART;TZID=America/New_York:20140122T183000
DTEND;TZID=America/New_York:20140122T213000
DTSTAMP:20260425T122044
CREATED:20131105T020314Z
LAST-MODIFIED:20140108T193632Z
UID:233-1390415400-1390426200@katonahstudygroup.org
SUMMARY:Laurie Gordon\, MD
DESCRIPTION: Laurie Gordon\, MD  \n“Delivering on a Promise”\nThe Quest for Peace Within\n \nWednesday\, January 22\, 2013\n6:30 – 9:30 pm\nNorthern Westchester Hospital Center\nConference Rooms C & D \n  \n  \n\n      \n\n\n\nLaurie Gordon\, MD presentation for Katonah Study Group\n\n\nPurchase ticket $18.00 USDPurchase membership $65.00 USD\n\n\n\n      \n\n“Peace is not a luxury. It’s not an option. It is fundamental to the existence and well-being of a human being to have peace in their life.”\n**************************************** \n \nDr Laurie Gordon has been a student of Prem Rawat for over thirty years and has found his teaching extremely valuable.  Mr. Rawat teaches peace as a fundamental human need and he offers anyone who is sincerely interested a practical way to discover peace within\, which he calls Knowledge. \n\nIn this enlightening presentation Dr Laurie Gordon will introduce the topic of the possibility of inner peace and will show a few short videos\, including:\n \n \n\n “Delivering on a Promise”  This video tracks people searching for peace\, how they discovered Prem Rawat\, why they chose to pursue what he offers and how it has affected them even in their darkest hours.\n    \n\n  \n\n “25\,550 days.  That’s it.” This video addresses the topic of how many days the average person lives.  Through humor\, surprise and poignancy combined with infographic-style graphics it shows excerpts from Prem Rawat’s talk and “man-on-the street” interviews.\n\n  \nThere will be time for discussion at the conclusion of the video presentations.\n\n\n \nLaurie Gordon\, MD is a physician specializing in Internal Medicine. She graduated from Yale University with a BS in Molecular Biophysics and Biochemistry in 1976\, and received her MD degree from Cornell University Medical College in 1980.  She did her residency and was Chief Medical Resident in Internal Medicine at New York Hospital and New York Downtown Hospital in the 1980’s. Since 1990 she has lived in New Canaan\, raising her four children and practicing Internal Medicine at the PrimeCare Medical Group in Stamford\, CT.\n*Her interests in healing also include acupuncture\, hands on healing\, yoga\, meditation\, psychic healing\, nutrition\, exercise\, and healthful living.*\n \n \n  \n  \n  \nIf you are a member\, please RSVP to bonnie@katonahstudygroup.org \n  \n 
URL:https://katonahstudygroup.org/event/laurie-gordon/
LOCATION:Northern Westchester Hospital – conference rooms A & B\, 400 E Main Street\, Mt Kisco\, NY\, 10549\, United States
ORGANIZER;CN="Bonnie Rogers%2C Clinical Herbalist & Wellness Coach":MAILTO:bonnie@katonahstudygroup.org
END:VEVENT
BEGIN:VEVENT
DTSTART;TZID=America/New_York:20131113T183000
DTEND;TZID=America/New_York:20131113T210000
DTSTAMP:20260425T122044
CREATED:20130920T024056Z
LAST-MODIFIED:20131104T151155Z
UID:220-1384367400-1384376400@katonahstudygroup.org
SUMMARY:Depression & Anxiety :Finding Treatment That Works
DESCRIPTION:  \n\n\n\n  \n Northern Westchester Hospital Center – Conference Rooms C & D\n  \nWednesday November 13\, 2013 \n\n\nDepression & Anxiety : Finding Treatment That Works!\n\n\n\nStress is everywhere\, with anxiety and depression plaguing many. For some antidepressants do the job. They are less expensive than “talk” therapy\, but can cause side effects and sometimes fall short. In this workshop we will look at ways to make medicine more effective using natural approaches. Plus we will explore different ways to reduce depression and anxiety with less or no medication.  \nQuestions and discussion will be encouraged. \n\n………………………………………………………………………………………………………………………… \nPresenters \n Mark Banschick\, MD is a child\, adolescent and adult psychiatrist with an interest in effective\, but minimal pharmacological treatments.  He will be speaking about the importance of folic acid metabolism in the treatment of depression as well as spirituality and exercise. \nChild\, Adolescent and Adult Psychiatrist \nPrivate Practice – Katonah\, New York \nBlogger: Psychology Today and the Huffington Post \n\n\n Geri Brewster\, RD MPH CDN is a clinical nutritionist who will be reviewing how our diet can set the stage for psychological instability. She will be teaching us simple ways to change our eating habits that may alter the way we feel. \nIntegrative Nutritionist – Mt. Kisco & New York City \nAwarded the 2013 DIFM Excellence in Practice Award \n\nCan be reached at: http://geribrewster.com/about \n\nAnne Wennerstrand\, MS\, MSW\, LCSW-R is a psychotherapist specializing in women’s mental health across the life span. She will be speaking about research supporting various psychotherapeutic approaches and the value of body and movement-based intervention in healing.  \nPsychotherapy Private Practice – Katonah\, New York \nFaculty/Supervisor/Board of Directors – Woman’s Therapy Centre\, New York City \n\n\n\n\n\n\n\n\nIf you are would like to attend the event and want to pay at the door. Please click here to email us your name and how many tickets you want   Thanks   \n\n\n\n  \n\n 
URL:https://katonahstudygroup.org/event/depressionanxiety-treatment-that-works/
LOCATION:Northern Westchester Hospital – conference rooms C & D\, 400 E Main Street\, Mt Kisco\, NY\, 10549\, United States
ORGANIZER;CN="Bonnie Rogers":MAILTO:bonnie@katonahstudygroup.org
END:VEVENT
BEGIN:VEVENT
DTSTART;TZID=America/New_York:20130925T183000
DTEND;TZID=America/New_York:20130925T213000
DTSTAMP:20260425T122044
CREATED:20130524T163016Z
LAST-MODIFIED:20130826T181224Z
UID:188-1380133800-1380144600@katonahstudygroup.org
SUMMARY:Abundant Health & Happiness with Henry Grayson\, Ph.D.
DESCRIPTION: KATONAH STUDY GROUP  \nSEPTEMBER 25 2013 PRESENTATION\nHenry Grayson\, Ph.D.\n Northern Westchester Hospital Center\nConference Rooms A & B\n400 E Main Street\nMt Kisco\, NY  10549 \n\n      \n\n\n\nHenry Grayson\, Ph.D.\n\n\n2013-2014 Membership $65.00 USDOnly for Henry Grayson – Sept 2013 $18.00 USD\n\n\n\n      \n\n  \n  \nEVERYONE WANTS ABUNDANT \nHEALTH AND HAPPINESS!  \n(or do we really???) \n  \n  \nIf we did we would have them!  But as a new Yale study reveals\, only 2% of Americans do what they know to do to stay healthy.  Only 5% of those who study meditation continue the practice.  My nationwide studies reveal a similar result.  Why?  We all have conscious and unconscious barriers to health and happiness.  In this event you will learn ways to identify the diverse anchors holding us back\, even from unremembered early childhood\, in the womb\, or genetic memories\, as well as downloads and beliefs which grew out of them.  You will learn how to clear out effects of traumas\, in yourself or in your patients\, which so quickly make us sick or unhappy.  And you will learn how open up new neural pathways to create new habit patterns in thoughts\, behaviors\, and in our bodies\, which will allow us to embrace health and happiness more completely. \n \nDr. Henry Grayson is a body/mind/spirit psychologist who has studied most of the major psychotherapies from psychoanalysis to EMDR and the new energy psychology methods (TFT\, EFT\, TAT)\, and draws from the new sciences quantum physics and neuropsychology\, and world wide spiritual wisdom and weaves them into his Synergetic Therapy which he teaches widely across the US and abroad. \n  \nHe founded the National Institute for the Psychotherapies and the Association for Spirituality and Psychotherapy\, and is the author of 6 books\, including MINDFUL LOVING\,  THE NEW PHYSICS OF LOVE\, and his more recent book\, USE YOUR BODY TO HEAL YOUR MIND: RELEASING ALL BARRIERS TO HEALTH\, HEALING HEALING AND HAPPINESS.   \n  \nHe practices in New York City and in Westport\, CT \n \n 
URL:https://katonahstudygroup.org/event/henrygraysonphd/
LOCATION:Northern Westchester Hospital – conference rooms A & B\, 400 E Main Street\, Mt Kisco\, NY\, 10549\, United States
ORGANIZER;CN="Bonnie Rogers%2C Clinical Herbalist & Wellness Coach":MAILTO:bonnie@katonahstudygroup.org
END:VEVENT
END:VCALENDAR